BEGIN:VCALENDAR
VERSION:2.0
PRODID:-//Hope Church - ECPv6.15.20//NONSGML v1.0//EN
CALSCALE:GREGORIAN
METHOD:PUBLISH
X-ORIGINAL-URL:https://hopeinsturgis.com
X-WR-CALDESC:Events for Hope Church
REFRESH-INTERVAL;VALUE=DURATION:PT1H
X-Robots-Tag:noindex
X-PUBLISHED-TTL:PT1H
BEGIN:VTIMEZONE
TZID:America/Denver
BEGIN:DAYLIGHT
TZOFFSETFROM:-0700
TZOFFSETTO:-0600
TZNAME:MDT
DTSTART:20250309T090000
END:DAYLIGHT
BEGIN:STANDARD
TZOFFSETFROM:-0600
TZOFFSETTO:-0700
TZNAME:MST
DTSTART:20251102T080000
END:STANDARD
BEGIN:DAYLIGHT
TZOFFSETFROM:-0700
TZOFFSETTO:-0600
TZNAME:MDT
DTSTART:20260308T090000
END:DAYLIGHT
BEGIN:STANDARD
TZOFFSETFROM:-0600
TZOFFSETTO:-0700
TZNAME:MST
DTSTART:20261101T080000
END:STANDARD
BEGIN:DAYLIGHT
TZOFFSETFROM:-0700
TZOFFSETTO:-0600
TZNAME:MDT
DTSTART:20270314T090000
END:DAYLIGHT
BEGIN:STANDARD
TZOFFSETFROM:-0600
TZOFFSETTO:-0700
TZNAME:MST
DTSTART:20271107T080000
END:STANDARD
END:VTIMEZONE
BEGIN:VEVENT
DTSTART;TZID=America/Denver:20260603T090000
DTEND;TZID=America/Denver:20260603T100000
DTSTAMP:20260424T115837
CREATED:20260305T224819Z
LAST-MODIFIED:20260424T174839Z
UID:10000235-1780477200-1780480800@hopeinsturgis.com
SUMMARY:Hope Group - Women’s Prayer
DESCRIPTION:
URL:https://hopeinsturgis.com/event/hope-group-womens-prayer-13/
LOCATION:Hope Church 1638 Junction Ave\, Sturgis\, SD\, United States
GEO:44.369172;-103.361658
END:VEVENT
BEGIN:VEVENT
DTSTART;TZID=America/Denver:20260603T180000
DTEND;TZID=America/Denver:20260603T190000
DTSTAMP:20260424T115837
CREATED:20251015T164229Z
LAST-MODIFIED:20260424T174839Z
UID:10000112-1780509600-1780513200@hopeinsturgis.com
SUMMARY:First Wednesday
DESCRIPTION:
URL:https://hopeinsturgis.com/event/first-wednesday-9/
END:VEVENT
BEGIN:VEVENT
DTSTART;TZID=America/Denver:20260603T183000
DTEND;TZID=America/Denver:20260603T200000
DTSTAMP:20260424T115837
CREATED:20260308T233242Z
LAST-MODIFIED:20260424T174839Z
UID:10000236-1780511400-1780516800@hopeinsturgis.com
SUMMARY:Hope Group - Wednesday Night Insights
DESCRIPTION:
URL:https://hopeinsturgis.com/event/hope-group-wednesday-night-insights-22/
LOCATION:20710 Rendezvous Ct\, Sturgis\, SD\, United States
GEO:44.369172;-103.361658
END:VEVENT
END:VCALENDAR