BEGIN:VCALENDAR
VERSION:2.0
PRODID:-//Hope Church - ECPv6.15.20//NONSGML v1.0//EN
CALSCALE:GREGORIAN
METHOD:PUBLISH
X-WR-CALNAME:Hope Church
X-ORIGINAL-URL:https://hopeinsturgis.com
X-WR-CALDESC:Events for Hope Church
REFRESH-INTERVAL;VALUE=DURATION:PT1H
X-Robots-Tag:noindex
X-PUBLISHED-TTL:PT1H
BEGIN:VTIMEZONE
TZID:America/Denver
BEGIN:DAYLIGHT
TZOFFSETFROM:-0700
TZOFFSETTO:-0600
TZNAME:MDT
DTSTART:20250309T090000
END:DAYLIGHT
BEGIN:STANDARD
TZOFFSETFROM:-0600
TZOFFSETTO:-0700
TZNAME:MST
DTSTART:20251102T080000
END:STANDARD
BEGIN:DAYLIGHT
TZOFFSETFROM:-0700
TZOFFSETTO:-0600
TZNAME:MDT
DTSTART:20260308T090000
END:DAYLIGHT
BEGIN:STANDARD
TZOFFSETFROM:-0600
TZOFFSETTO:-0700
TZNAME:MST
DTSTART:20261101T080000
END:STANDARD
BEGIN:DAYLIGHT
TZOFFSETFROM:-0700
TZOFFSETTO:-0600
TZNAME:MDT
DTSTART:20270314T090000
END:DAYLIGHT
BEGIN:STANDARD
TZOFFSETFROM:-0600
TZOFFSETTO:-0700
TZNAME:MST
DTSTART:20271107T080000
END:STANDARD
END:VTIMEZONE
BEGIN:VEVENT
DTSTART;TZID=America/Denver:20260408T090000
DTEND;TZID=America/Denver:20260408T100000
DTSTAMP:20260424T115146
CREATED:20260305T224814Z
LAST-MODIFIED:20260408T153445Z
UID:10000212-1775638800-1775642400@hopeinsturgis.com
SUMMARY:Hope Group - Women’s Prayer
DESCRIPTION:
URL:https://hopeinsturgis.com/event/hope-group-womens-prayer-5/
LOCATION:Hope Church 1638 Junction Ave\, Sturgis\, SD\, United States
GEO:44.369172;-103.361658
END:VEVENT
BEGIN:VEVENT
DTSTART;TZID=America/Denver:20260408T183000
DTEND;TZID=America/Denver:20260408T200000
DTSTAMP:20260424T115146
CREATED:20260305T224814Z
LAST-MODIFIED:20260409T014631Z
UID:10000213-1775673000-1775678400@hopeinsturgis.com
SUMMARY:Hope Group - Wednesday Night Insights
DESCRIPTION:
URL:https://hopeinsturgis.com/event/hope-group-wednesday-night-insights-14/
LOCATION:20710 Rendezvous Ct\, Sturgis\, SD\, United States
GEO:44.369172;-103.361658
END:VEVENT
BEGIN:VEVENT
DTSTART;TZID=America/Denver:20260412T084500
DTEND;TZID=America/Denver:20260412T094500
DTSTAMP:20260424T115146
CREATED:20260305T224815Z
LAST-MODIFIED:20260412T153344Z
UID:10000214-1775983500-1775987100@hopeinsturgis.com
SUMMARY:Hope Group - Being God's Image
DESCRIPTION:
URL:https://hopeinsturgis.com/event/hope-group-being-gods-image-6/
LOCATION:Hope Church\, 1638 Junction Ave\, Sturgis\, SD\, United States
GEO:44.408239;-103.509094
X-APPLE-STRUCTURED-LOCATION;VALUE=URI;X-ADDRESS=Hope Church 1638 Junction Ave Sturgis SD United States;X-APPLE-RADIUS=500;X-TITLE=1638 Junction Ave:geo:-103.509094,44.408239
END:VEVENT
BEGIN:VEVENT
DTSTART;TZID=America/Denver:20260412T100000
DTEND;TZID=America/Denver:20260412T110000
DTSTAMP:20260424T115146
CREATED:20260112T092543Z
LAST-MODIFIED:20260412T164636Z
UID:10000189-1775988000-1775991600@hopeinsturgis.com
SUMMARY:Sunday Service
DESCRIPTION:
URL:https://hopeinsturgis.com/event/sunday-service-23/
END:VEVENT
BEGIN:VEVENT
DTSTART;TZID=America/Denver:20260415T090000
DTEND;TZID=America/Denver:20260415T100000
DTSTAMP:20260424T115146
CREATED:20260305T224815Z
LAST-MODIFIED:20260415T155112Z
UID:10000215-1776243600-1776247200@hopeinsturgis.com
SUMMARY:Hope Group - Women’s Prayer
DESCRIPTION:
URL:https://hopeinsturgis.com/event/hope-group-womens-prayer-6/
LOCATION:Hope Church 1638 Junction Ave\, Sturgis\, SD\, United States
GEO:44.369172;-103.361658
END:VEVENT
BEGIN:VEVENT
DTSTART;TZID=America/Denver:20260415T183000
DTEND;TZID=America/Denver:20260415T200000
DTSTAMP:20260424T115146
CREATED:20260305T224815Z
LAST-MODIFIED:20260416T014847Z
UID:10000216-1776277800-1776283200@hopeinsturgis.com
SUMMARY:Hope Group - Wednesday Night Insights
DESCRIPTION:
URL:https://hopeinsturgis.com/event/hope-group-wednesday-night-insights-15/
LOCATION:20710 Rendezvous Ct\, Sturgis\, SD\, United States
GEO:44.369172;-103.361658
END:VEVENT
BEGIN:VEVENT
DTSTART;TZID=America/Denver:20260419T084500
DTEND;TZID=America/Denver:20260419T094500
DTSTAMP:20260424T115146
CREATED:20260305T224815Z
LAST-MODIFIED:20260417T173128Z
UID:10000217-1776588300-1776591900@hopeinsturgis.com
SUMMARY:Hope Group - Being God's Image
DESCRIPTION:
URL:https://hopeinsturgis.com/event/hope-group-being-gods-image-7/
LOCATION:Hope Church\, 1638 Junction Ave\, Sturgis\, SD\, United States
GEO:44.408239;-103.509094
X-APPLE-STRUCTURED-LOCATION;VALUE=URI;X-ADDRESS=Hope Church 1638 Junction Ave Sturgis SD United States;X-APPLE-RADIUS=500;X-TITLE=1638 Junction Ave:geo:-103.509094,44.408239
END:VEVENT
BEGIN:VEVENT
DTSTART;TZID=America/Denver:20260419T100000
DTEND;TZID=America/Denver:20260419T110000
DTSTAMP:20260424T115146
CREATED:20260119T114503Z
LAST-MODIFIED:20260417T173128Z
UID:10000191-1776592800-1776596400@hopeinsturgis.com
SUMMARY:Sunday Service
DESCRIPTION:
URL:https://hopeinsturgis.com/event/sunday-service-24/
END:VEVENT
BEGIN:VEVENT
DTSTART;TZID=America/Denver:20260419T173000
DTEND;TZID=America/Denver:20260419T190000
DTSTAMP:20260424T115146
CREATED:20260119T114503Z
LAST-MODIFIED:20260417T173128Z
UID:10000192-1776619800-1776625200@hopeinsturgis.com
SUMMARY:Youth Group
DESCRIPTION:
URL:https://hopeinsturgis.com/event/youth-group-9/
END:VEVENT
BEGIN:VEVENT
DTSTART;TZID=America/Denver:20260422T090000
DTEND;TZID=America/Denver:20260422T100000
DTSTAMP:20260424T115146
CREATED:20260305T224816Z
LAST-MODIFIED:20260417T173129Z
UID:10000218-1776848400-1776852000@hopeinsturgis.com
SUMMARY:Hope Group - Women’s Prayer
DESCRIPTION:
URL:https://hopeinsturgis.com/event/hope-group-womens-prayer-7/
LOCATION:Hope Church 1638 Junction Ave\, Sturgis\, SD\, United States
GEO:44.369172;-103.361658
END:VEVENT
BEGIN:VEVENT
DTSTART;TZID=America/Denver:20260422T183000
DTEND;TZID=America/Denver:20260422T200000
DTSTAMP:20260424T115146
CREATED:20260305T224816Z
LAST-MODIFIED:20260417T173129Z
UID:10000219-1776882600-1776888000@hopeinsturgis.com
SUMMARY:Hope Group - Wednesday Night Insights
DESCRIPTION:
URL:https://hopeinsturgis.com/event/hope-group-wednesday-night-insights-16/
LOCATION:20710 Rendezvous Ct\, Sturgis\, SD\, United States
GEO:44.369172;-103.361658
END:VEVENT
BEGIN:VEVENT
DTSTART;TZID=America/Denver:20260426T090000
DTEND;TZID=America/Denver:20260426T100000
DTSTAMP:20260424T115146
CREATED:20260305T224816Z
LAST-MODIFIED:20260424T174836Z
UID:10000220-1777194000-1777197600@hopeinsturgis.com
SUMMARY:Hope Group - Connection and Fellowship
DESCRIPTION:
URL:https://hopeinsturgis.com/event/hope-group-connection-and-fellowship-5/
LOCATION:Hope Church\, 1638 Junction Ave\, Sturgis\, SD\, United States
GEO:44.408239;-103.509094
X-APPLE-STRUCTURED-LOCATION;VALUE=URI;X-ADDRESS=Hope Church 1638 Junction Ave Sturgis SD United States;X-APPLE-RADIUS=500;X-TITLE=1638 Junction Ave:geo:-103.509094,44.408239
END:VEVENT
BEGIN:VEVENT
DTSTART;TZID=America/Denver:20260426T100000
DTEND;TZID=America/Denver:20260426T110000
DTSTAMP:20260424T115146
CREATED:20251015T164228Z
LAST-MODIFIED:20260424T174835Z
UID:10000109-1777197600-1777201200@hopeinsturgis.com
SUMMARY:BGMC Sunday
DESCRIPTION:
URL:https://hopeinsturgis.com/event/bgmc-sunday-7/
END:VEVENT
BEGIN:VEVENT
DTSTART;TZID=America/Denver:20260426T100000
DTEND;TZID=America/Denver:20260426T110000
DTSTAMP:20260424T115146
CREATED:20260131T134955Z
LAST-MODIFIED:20260424T174836Z
UID:10000194-1777197600-1777201200@hopeinsturgis.com
SUMMARY:Sunday Service
DESCRIPTION:
URL:https://hopeinsturgis.com/event/sunday-service-25/
END:VEVENT
BEGIN:VEVENT
DTSTART;TZID=America/Denver:20260429T090000
DTEND;TZID=America/Denver:20260429T100000
DTSTAMP:20260424T115146
CREATED:20260305T224816Z
LAST-MODIFIED:20260424T174836Z
UID:10000221-1777453200-1777456800@hopeinsturgis.com
SUMMARY:Hope Group - Women’s Prayer
DESCRIPTION:
URL:https://hopeinsturgis.com/event/hope-group-womens-prayer-8/
LOCATION:Hope Church 1638 Junction Ave\, Sturgis\, SD\, United States
GEO:44.369172;-103.361658
END:VEVENT
BEGIN:VEVENT
DTSTART;TZID=America/Denver:20260429T183000
DTEND;TZID=America/Denver:20260429T200000
DTSTAMP:20260424T115146
CREATED:20260305T224816Z
LAST-MODIFIED:20260424T174836Z
UID:10000222-1777487400-1777492800@hopeinsturgis.com
SUMMARY:Hope Group - Wednesday Night Insights
DESCRIPTION:
URL:https://hopeinsturgis.com/event/hope-group-wednesday-night-insights-17/
LOCATION:20710 Rendezvous Ct\, Sturgis\, SD\, United States
GEO:44.369172;-103.361658
END:VEVENT
BEGIN:VEVENT
DTSTART;TZID=America/Denver:20260503T084500
DTEND;TZID=America/Denver:20260503T094500
DTSTAMP:20260424T115146
CREATED:20260305T224817Z
LAST-MODIFIED:20260424T174836Z
UID:10000223-1777797900-1777801500@hopeinsturgis.com
SUMMARY:Hope Group - Being God's Image
DESCRIPTION:
URL:https://hopeinsturgis.com/event/hope-group-being-gods-image-8/
LOCATION:Hope Church\, 1638 Junction Ave\, Sturgis\, SD\, United States
GEO:44.408239;-103.509094
X-APPLE-STRUCTURED-LOCATION;VALUE=URI;X-ADDRESS=Hope Church 1638 Junction Ave Sturgis SD United States;X-APPLE-RADIUS=500;X-TITLE=1638 Junction Ave:geo:-103.509094,44.408239
END:VEVENT
BEGIN:VEVENT
DTSTART;TZID=America/Denver:20260503T100000
DTEND;TZID=America/Denver:20260503T110000
DTSTAMP:20260424T115146
CREATED:20260202T142001Z
LAST-MODIFIED:20260424T174836Z
UID:10000196-1777802400-1777806000@hopeinsturgis.com
SUMMARY:Sunday Service
DESCRIPTION:
URL:https://hopeinsturgis.com/event/sunday-service-26/
END:VEVENT
BEGIN:VEVENT
DTSTART;TZID=America/Denver:20260503T100000
DTEND;TZID=America/Denver:20260503T110000
DTSTAMP:20260424T115146
CREATED:20260202T142001Z
LAST-MODIFIED:20260424T174836Z
UID:10000195-1777802400-1777806000@hopeinsturgis.com
SUMMARY:Communion
DESCRIPTION:
URL:https://hopeinsturgis.com/event/communion-9/
END:VEVENT
BEGIN:VEVENT
DTSTART;TZID=America/Denver:20260503T173000
DTEND;TZID=America/Denver:20260503T190000
DTSTAMP:20260424T115146
CREATED:20260202T142002Z
LAST-MODIFIED:20260424T174836Z
UID:10000197-1777829400-1777834800@hopeinsturgis.com
SUMMARY:Youth Group
DESCRIPTION:
URL:https://hopeinsturgis.com/event/youth-group-10/
END:VEVENT
BEGIN:VEVENT
DTSTART;TZID=America/Denver:20260506T090000
DTEND;TZID=America/Denver:20260506T100000
DTSTAMP:20260424T115146
CREATED:20260305T224817Z
LAST-MODIFIED:20260424T174837Z
UID:10000224-1778058000-1778061600@hopeinsturgis.com
SUMMARY:Hope Group - Women’s Prayer
DESCRIPTION:
URL:https://hopeinsturgis.com/event/hope-group-womens-prayer-9/
LOCATION:Hope Church 1638 Junction Ave\, Sturgis\, SD\, United States
GEO:44.369172;-103.361658
END:VEVENT
BEGIN:VEVENT
DTSTART;TZID=America/Denver:20260506T180000
DTEND;TZID=America/Denver:20260506T190000
DTSTAMP:20260424T115146
CREATED:20251015T164229Z
LAST-MODIFIED:20260424T174837Z
UID:10000110-1778090400-1778094000@hopeinsturgis.com
SUMMARY:First Wednesday
DESCRIPTION:
URL:https://hopeinsturgis.com/event/first-wednesday-8/
END:VEVENT
BEGIN:VEVENT
DTSTART;TZID=America/Denver:20260506T183000
DTEND;TZID=America/Denver:20260506T200000
DTSTAMP:20260424T115146
CREATED:20260305T224817Z
LAST-MODIFIED:20260424T174837Z
UID:10000225-1778092200-1778097600@hopeinsturgis.com
SUMMARY:Hope Group - Wednesday Night Insights
DESCRIPTION:
URL:https://hopeinsturgis.com/event/hope-group-wednesday-night-insights-18/
LOCATION:20710 Rendezvous Ct\, Sturgis\, SD\, United States
GEO:44.369172;-103.361658
END:VEVENT
BEGIN:VEVENT
DTSTART;TZID=America/Denver:20260510T100000
DTEND;TZID=America/Denver:20260510T110000
DTSTAMP:20260424T115146
CREATED:20260211T163627Z
LAST-MODIFIED:20260424T174837Z
UID:10000199-1778407200-1778410800@hopeinsturgis.com
SUMMARY:Sunday Service
DESCRIPTION:
URL:https://hopeinsturgis.com/event/sunday-service-27/
END:VEVENT
BEGIN:VEVENT
DTSTART;TZID=America/Denver:20260513T090000
DTEND;TZID=America/Denver:20260513T100000
DTSTAMP:20260424T115146
CREATED:20260305T224817Z
LAST-MODIFIED:20260424T174837Z
UID:10000226-1778662800-1778666400@hopeinsturgis.com
SUMMARY:Hope Group - Women’s Prayer
DESCRIPTION:
URL:https://hopeinsturgis.com/event/hope-group-womens-prayer-10/
LOCATION:Hope Church 1638 Junction Ave\, Sturgis\, SD\, United States
GEO:44.369172;-103.361658
END:VEVENT
BEGIN:VEVENT
DTSTART;TZID=America/Denver:20260513T183000
DTEND;TZID=America/Denver:20260513T200000
DTSTAMP:20260424T115146
CREATED:20260305T224818Z
LAST-MODIFIED:20260424T174837Z
UID:10000227-1778697000-1778702400@hopeinsturgis.com
SUMMARY:Hope Group - Wednesday Night Insights
DESCRIPTION:
URL:https://hopeinsturgis.com/event/hope-group-wednesday-night-insights-19/
LOCATION:20710 Rendezvous Ct\, Sturgis\, SD\, United States
GEO:44.369172;-103.361658
END:VEVENT
BEGIN:VEVENT
DTSTART;TZID=America/Denver:20260517T100000
DTEND;TZID=America/Denver:20260517T110000
DTSTAMP:20260424T115146
CREATED:20260216T180630Z
LAST-MODIFIED:20260424T174837Z
UID:10000200-1779012000-1779015600@hopeinsturgis.com
SUMMARY:Sunday Service
DESCRIPTION:
URL:https://hopeinsturgis.com/event/sunday-service-28/
END:VEVENT
BEGIN:VEVENT
DTSTART;TZID=America/Denver:20260517T130000
DTEND;TZID=America/Denver:20260517T173000
DTSTAMP:20260424T115146
CREATED:20260312T060854Z
LAST-MODIFIED:20260424T174837Z
UID:10000239-1779022800-1779039000@hopeinsturgis.com
SUMMARY:Kierra's Graduation Party
DESCRIPTION:
URL:https://hopeinsturgis.com/event/kierras-graduation-party/
LOCATION:Hope Church 1638 Junction Ave\, Sturgis\, SD\, United States
GEO:44.369172;-103.361658
END:VEVENT
BEGIN:VEVENT
DTSTART;TZID=America/Denver:20260520T090000
DTEND;TZID=America/Denver:20260520T100000
DTSTAMP:20260424T115146
CREATED:20260305T224818Z
LAST-MODIFIED:20260424T174838Z
UID:10000228-1779267600-1779271200@hopeinsturgis.com
SUMMARY:Hope Group - Women’s Prayer
DESCRIPTION:
URL:https://hopeinsturgis.com/event/hope-group-womens-prayer-11/
LOCATION:Hope Church 1638 Junction Ave\, Sturgis\, SD\, United States
GEO:44.369172;-103.361658
END:VEVENT
BEGIN:VEVENT
DTSTART;TZID=America/Denver:20260520T183000
DTEND;TZID=America/Denver:20260520T200000
DTSTAMP:20260424T115147
CREATED:20260305T224818Z
LAST-MODIFIED:20260424T174838Z
UID:10000229-1779301800-1779307200@hopeinsturgis.com
SUMMARY:Hope Group - Wednesday Night Insights
DESCRIPTION:
URL:https://hopeinsturgis.com/event/hope-group-wednesday-night-insights-20/
LOCATION:20710 Rendezvous Ct\, Sturgis\, SD\, United States
GEO:44.369172;-103.361658
END:VEVENT
END:VCALENDAR