BEGIN:VCALENDAR
VERSION:2.0
PRODID:-//Hope Church - ECPv6.15.20//NONSGML v1.0//EN
CALSCALE:GREGORIAN
METHOD:PUBLISH
X-ORIGINAL-URL:https://hopeinsturgis.com
X-WR-CALDESC:Events for Hope Church
REFRESH-INTERVAL;VALUE=DURATION:PT1H
X-Robots-Tag:noindex
X-PUBLISHED-TTL:PT1H
BEGIN:VTIMEZONE
TZID:America/Denver
BEGIN:DAYLIGHT
TZOFFSETFROM:-0700
TZOFFSETTO:-0600
TZNAME:MDT
DTSTART:20240310T090000
END:DAYLIGHT
BEGIN:STANDARD
TZOFFSETFROM:-0600
TZOFFSETTO:-0700
TZNAME:MST
DTSTART:20241103T080000
END:STANDARD
BEGIN:DAYLIGHT
TZOFFSETFROM:-0700
TZOFFSETTO:-0600
TZNAME:MDT
DTSTART:20250309T090000
END:DAYLIGHT
BEGIN:STANDARD
TZOFFSETFROM:-0600
TZOFFSETTO:-0700
TZNAME:MST
DTSTART:20251102T080000
END:STANDARD
BEGIN:DAYLIGHT
TZOFFSETFROM:-0700
TZOFFSETTO:-0600
TZNAME:MDT
DTSTART:20260308T090000
END:DAYLIGHT
BEGIN:STANDARD
TZOFFSETFROM:-0600
TZOFFSETTO:-0700
TZNAME:MST
DTSTART:20261101T080000
END:STANDARD
END:VTIMEZONE
BEGIN:VTIMEZONE
TZID:America/Chicago
BEGIN:DAYLIGHT
TZOFFSETFROM:-0600
TZOFFSETTO:-0500
TZNAME:CDT
DTSTART:20240310T080000
END:DAYLIGHT
BEGIN:STANDARD
TZOFFSETFROM:-0500
TZOFFSETTO:-0600
TZNAME:CST
DTSTART:20241103T070000
END:STANDARD
BEGIN:DAYLIGHT
TZOFFSETFROM:-0600
TZOFFSETTO:-0500
TZNAME:CDT
DTSTART:20250309T080000
END:DAYLIGHT
BEGIN:STANDARD
TZOFFSETFROM:-0500
TZOFFSETTO:-0600
TZNAME:CST
DTSTART:20251102T070000
END:STANDARD
BEGIN:DAYLIGHT
TZOFFSETFROM:-0600
TZOFFSETTO:-0500
TZNAME:CDT
DTSTART:20260308T080000
END:DAYLIGHT
BEGIN:STANDARD
TZOFFSETFROM:-0500
TZOFFSETTO:-0600
TZNAME:CST
DTSTART:20261101T070000
END:STANDARD
END:VTIMEZONE
BEGIN:VEVENT
DTSTART;TZID=America/Denver:20250420T100000
DTEND;TZID=America/Denver:20250420T120000
DTSTAMP:20260419T094524
CREATED:20250204T195848Z
LAST-MODIFIED:20250204T200741Z
UID:10000017-1745143200-1745150400@hopeinsturgis.com
SUMMARY:Easter at Hope Church!
DESCRIPTION:Join us for Easter @ Hope Church! Our morning worship service starts at 10am! Ministry for all ages!
URL:https://hopeinsturgis.com/event/easter/
LOCATION:Hope Church\, 1638 Junction Ave\, Sturgis\, SD\, United States
GEO:44.408239;-103.509094
X-APPLE-STRUCTURED-LOCATION;VALUE=URI;X-ADDRESS=Hope Church 1638 Junction Ave Sturgis SD United States;X-APPLE-RADIUS=500;X-TITLE=1638 Junction Ave:geo:-103.509094,44.408239
END:VEVENT
BEGIN:VEVENT
DTSTART;TZID=America/Denver:20250420T180000
DTEND;TZID=America/Denver:20250420T200000
DTSTAMP:20260419T094524
CREATED:20250204T201011Z
LAST-MODIFIED:20250204T201132Z
UID:10000018-1745172000-1745179200@hopeinsturgis.com
SUMMARY:Easter Night of Worship!
DESCRIPTION:Join us for a Night of Worship with Evangelist/Musician\, Jacob Rocky at 6pm!
URL:https://hopeinsturgis.com/event/easter-night-of-worship/
END:VEVENT
BEGIN:VEVENT
DTSTART;TZID=America/Denver:20250427T100000
DTEND;TZID=America/Denver:20250427T120000
DTSTAMP:20260419T094524
CREATED:20250205T213906Z
LAST-MODIFIED:20250205T213906Z
UID:10000028-1745748000-1745755200@hopeinsturgis.com
SUMMARY:Sunday Worship
DESCRIPTION:Join us for our Sunday morning worship at 10am! \nNursery and Children’s ministry provided!
URL:https://hopeinsturgis.com/event/sunday-worship-12/
LOCATION:Hope Church\, 1638 Junction Ave\, Sturgis\, SD\, United States
GEO:44.408239;-103.509094
X-APPLE-STRUCTURED-LOCATION;VALUE=URI;X-ADDRESS=Hope Church 1638 Junction Ave Sturgis SD United States;X-APPLE-RADIUS=500;X-TITLE=1638 Junction Ave:geo:-103.509094,44.408239
END:VEVENT
BEGIN:VEVENT
DTSTART;TZID=America/Denver:20250504T100000
DTEND;TZID=America/Denver:20250504T120000
DTSTAMP:20260419T094524
CREATED:20250415T203240Z
LAST-MODIFIED:20250415T203240Z
UID:10000035-1746352800-1746360000@hopeinsturgis.com
SUMMARY:Sunday Worship
DESCRIPTION:Join us for our Sunday morning worship at 10am! \nNursery and Children’s ministry provided!
URL:https://hopeinsturgis.com/event/sunday-worship-13/
LOCATION:Hope Church\, 1638 Junction Ave\, Sturgis\, SD\, United States
GEO:44.408239;-103.509094
X-APPLE-STRUCTURED-LOCATION;VALUE=URI;X-ADDRESS=Hope Church 1638 Junction Ave Sturgis SD United States;X-APPLE-RADIUS=500;X-TITLE=1638 Junction Ave:geo:-103.509094,44.408239
END:VEVENT
BEGIN:VEVENT
DTSTART;TZID=America/Denver:20250507T190000
DTEND;TZID=America/Denver:20250507T203000
DTSTAMP:20260419T094524
CREATED:20250415T195616Z
LAST-MODIFIED:20250415T195800Z
UID:10000029-1746644400-1746649800@hopeinsturgis.com
SUMMARY:Senior Night Bowling!
DESCRIPTION:6th – 12th grade students come and celebrate our high school seniors! Bring $5 to help cover bowling and pizza.
URL:https://hopeinsturgis.com/event/senior-night-bowling/
LOCATION:Sturgis Strikers\, 910 First St\, Sturgis\, 57785\, United States
END:VEVENT
BEGIN:VEVENT
DTSTART;TZID=America/Denver:20250511T100000
DTEND;TZID=America/Denver:20250511T120000
DTSTAMP:20260419T094524
CREATED:20250415T203632Z
LAST-MODIFIED:20250415T203632Z
UID:10000036-1746957600-1746964800@hopeinsturgis.com
SUMMARY:Sunday Worship
DESCRIPTION:Join us for our Sunday morning worship at 10am!Nursery and Children’s ministry provided!
URL:https://hopeinsturgis.com/event/sunday-worship-14/
LOCATION:Hope Church\, 1638 Junction Ave\, Sturgis\, SD\, United States
GEO:44.408239;-103.509094
X-APPLE-STRUCTURED-LOCATION;VALUE=URI;X-ADDRESS=Hope Church 1638 Junction Ave Sturgis SD United States;X-APPLE-RADIUS=500;X-TITLE=1638 Junction Ave:geo:-103.509094,44.408239
END:VEVENT
BEGIN:VEVENT
DTSTART;TZID=America/Denver:20250518T100000
DTEND;TZID=America/Denver:20250518T120000
DTSTAMP:20260419T094524
CREATED:20250415T204037Z
LAST-MODIFIED:20250415T204037Z
UID:10000037-1747562400-1747569600@hopeinsturgis.com
SUMMARY:Sunday Worship
DESCRIPTION:Join us for our Sunday morning worship at 10am! \nNursery and Children’s ministry provided!
URL:https://hopeinsturgis.com/event/sunday-worship-15/
LOCATION:Hope Church\, 1638 Junction Ave\, Sturgis\, SD\, United States
GEO:44.408239;-103.509094
X-APPLE-STRUCTURED-LOCATION;VALUE=URI;X-ADDRESS=Hope Church 1638 Junction Ave Sturgis SD United States;X-APPLE-RADIUS=500;X-TITLE=1638 Junction Ave:geo:-103.509094,44.408239
END:VEVENT
BEGIN:VEVENT
DTSTART;TZID=America/Denver:20250601T180000
DTEND;TZID=America/Denver:20250601T193000
DTSTAMP:20260419T094524
CREATED:20250415T200406Z
LAST-MODIFIED:20250415T201510Z
UID:10000030-1748800800-1748806200@hopeinsturgis.com
SUMMARY:Summer Kick Off!
DESCRIPTION:6th-12th grade students! Let’s get together and enjoy a cookout (hotdogs\, chips & drinks provided) at the City Park (Beside Football Field)! Bring a friend!
URL:https://hopeinsturgis.com/event/summer-kick-off/
LOCATION:City Park – (Beside Football Field)\, Beside Football Field\, Sturgis\, SD\, 57785\, United States
END:VEVENT
BEGIN:VEVENT
DTSTART;TZID=America/Denver:20250622T180000
DTEND;TZID=America/Denver:20250622T193000
DTSTAMP:20260419T094524
CREATED:20250415T200754Z
LAST-MODIFIED:20250415T200754Z
UID:10000031-1750615200-1750620600@hopeinsturgis.com
SUMMARY:Pickleball Tourney!
DESCRIPTION:All 6th-12th grade students let’s hang out and play pickleball! Ok\, if you don’t like pickleball\, let’s still hang out!
URL:https://hopeinsturgis.com/event/pickleball-tourney/
LOCATION:6th Street Park\, 6th St & Park Ave\, Sturgis\, SD\, 57785\, United States
END:VEVENT
BEGIN:VEVENT
DTSTART;VALUE=DATE:20250623
DTEND;VALUE=DATE:20250628
DTSTAMP:20260419T094524
CREATED:20250122T034526Z
LAST-MODIFIED:20250205T215059Z
UID:10000012-1750636800-1751068799@hopeinsturgis.com
SUMMARY:Summer Camp!
DESCRIPTION:Join us for Summer Camp 2025!  Spend a week with God and your friends at the beautiful Black Hills Retreat Center! See Pastor Pete for more info!
URL:https://hopeinsturgis.com/event/summer-camp/
LOCATION:Black Hills Retreat Center\, 12145 Paha Sapa Rd\, Deadwood\, SD\, 57732\, United States
END:VEVENT
BEGIN:VEVENT
DTSTART;TZID=America/Denver:20250625T100000
DTEND;TZID=America/Denver:20250625T120000
DTSTAMP:20260419T094524
CREATED:20250625T141925Z
LAST-MODIFIED:20250625T141925Z
UID:10000044-1750845600-1750852800@hopeinsturgis.com
SUMMARY:Sunday Worship
DESCRIPTION:Join us for our Sunday morning worship at 10am! \nNursery and Children’s ministry provided!
URL:https://hopeinsturgis.com/event/sunday-worship-21/
LOCATION:Hope Church\, 1638 Junction Ave\, Sturgis\, SD\, United States
GEO:44.408239;-103.509094
X-APPLE-STRUCTURED-LOCATION;VALUE=URI;X-ADDRESS=Hope Church 1638 Junction Ave Sturgis SD United States;X-APPLE-RADIUS=500;X-TITLE=1638 Junction Ave:geo:-103.509094,44.408239
END:VEVENT
BEGIN:VEVENT
DTSTART;TZID=America/Denver:20250629T100000
DTEND;TZID=America/Denver:20250629T120000
DTSTAMP:20260419T094524
CREATED:20250625T140551Z
LAST-MODIFIED:20250625T140617Z
UID:10000039-1751191200-1751198400@hopeinsturgis.com
SUMMARY:Sunday Worship
DESCRIPTION:Join us for our Sunday morning worship at 10am! \nNursery and Children’s ministry provided!
URL:https://hopeinsturgis.com/event/sunday-worship-17/
LOCATION:Hope Church\, 1638 Junction Ave\, Sturgis\, SD\, United States
GEO:44.408239;-103.509094
X-APPLE-STRUCTURED-LOCATION;VALUE=URI;X-ADDRESS=Hope Church 1638 Junction Ave Sturgis SD United States;X-APPLE-RADIUS=500;X-TITLE=1638 Junction Ave:geo:-103.509094,44.408239
END:VEVENT
BEGIN:VEVENT
DTSTART;TZID=America/Denver:20250702T180000
DTEND;TZID=America/Denver:20250702T190000
DTSTAMP:20260419T094524
CREATED:20250625T141205Z
LAST-MODIFIED:20250625T141205Z
UID:10000041-1751479200-1751482800@hopeinsturgis.com
SUMMARY:First Wednesday
DESCRIPTION:Night of prayer & worship!
URL:https://hopeinsturgis.com/event/first-wednesday/
LOCATION:Hope Church\, 1638 Junction Ave\, Sturgis\, SD\, United States
GEO:44.408239;-103.509094
X-APPLE-STRUCTURED-LOCATION;VALUE=URI;X-ADDRESS=Hope Church 1638 Junction Ave Sturgis SD United States;X-APPLE-RADIUS=500;X-TITLE=1638 Junction Ave:geo:-103.509094,44.408239
END:VEVENT
BEGIN:VEVENT
DTSTART;TZID=America/Denver:20250706T100000
DTEND;TZID=America/Denver:20250706T120000
DTSTAMP:20260419T094524
CREATED:20250625T140840Z
LAST-MODIFIED:20250625T140903Z
UID:10000040-1751796000-1751803200@hopeinsturgis.com
SUMMARY:Sunday Worship
DESCRIPTION:Join us for our Sunday morning worship at 10am! \nNursery and Children’s ministry provided!
URL:https://hopeinsturgis.com/event/sunday-worship-18/
LOCATION:Hope Church\, 1638 Junction Ave\, Sturgis\, SD\, United States
GEO:44.408239;-103.509094
X-APPLE-STRUCTURED-LOCATION;VALUE=URI;X-ADDRESS=Hope Church 1638 Junction Ave Sturgis SD United States;X-APPLE-RADIUS=500;X-TITLE=1638 Junction Ave:geo:-103.509094,44.408239
END:VEVENT
BEGIN:VEVENT
DTSTART;TZID=America/Denver:20250706T180000
DTEND;TZID=America/Denver:20250706T210000
DTSTAMP:20260419T094524
CREATED:20250415T201003Z
LAST-MODIFIED:20250415T201642Z
UID:10000032-1751824800-1751835600@hopeinsturgis.com
SUMMARY:Ultimate & Armadillos!
DESCRIPTION:Ultimate Frisbee and Ice Cream! Let’s go! Please bring $5-10 for Ice Cream! All 6th-12th students we can’t wait to hang out with you! We will car pool over from the church at 6pm and arrive back by 9:30pm. Bring a friend!
URL:https://hopeinsturgis.com/event/ultimate-armadillos/
LOCATION:Sioux Park – Rapid City\, 733 Canyon Lake Dr\, Rapid City\, SD\, 57785\, United States
END:VEVENT
BEGIN:VEVENT
DTSTART;TZID=America/Denver:20250713T100000
DTEND;TZID=America/Denver:20250713T120000
DTSTAMP:20260419T094524
CREATED:20250625T141525Z
LAST-MODIFIED:20250625T141525Z
UID:10000042-1752400800-1752408000@hopeinsturgis.com
SUMMARY:Sunday Worship
DESCRIPTION:Join us for our Sunday morning worship at 10am! \nNursery and Children’s ministry provided!
URL:https://hopeinsturgis.com/event/sunday-worship-19/
LOCATION:Hope Church\, 1638 Junction Ave\, Sturgis\, SD\, United States
GEO:44.408239;-103.509094
X-APPLE-STRUCTURED-LOCATION;VALUE=URI;X-ADDRESS=Hope Church 1638 Junction Ave Sturgis SD United States;X-APPLE-RADIUS=500;X-TITLE=1638 Junction Ave:geo:-103.509094,44.408239
END:VEVENT
BEGIN:VEVENT
DTSTART;TZID=America/Denver:20250720T100000
DTEND;TZID=America/Denver:20250720T120000
DTSTAMP:20260419T094524
CREATED:20250625T141649Z
LAST-MODIFIED:20250625T141649Z
UID:10000043-1753005600-1753012800@hopeinsturgis.com
SUMMARY:Sunday Worship
DESCRIPTION:Join us for our Sunday morning worship at 10am! \nNursery and Children’s ministry provided!
URL:https://hopeinsturgis.com/event/sunday-worship-20/
LOCATION:Hope Church\, 1638 Junction Ave\, Sturgis\, SD\, United States
GEO:44.408239;-103.509094
X-APPLE-STRUCTURED-LOCATION;VALUE=URI;X-ADDRESS=Hope Church 1638 Junction Ave Sturgis SD United States;X-APPLE-RADIUS=500;X-TITLE=1638 Junction Ave:geo:-103.509094,44.408239
END:VEVENT
BEGIN:VEVENT
DTSTART;TZID=America/Denver:20250720T180000
DTEND;TZID=America/Denver:20250720T220000
DTSTAMP:20260419T094524
CREATED:20250415T201424Z
LAST-MODIFIED:20250415T203537Z
UID:10000033-1753034400-1753048800@hopeinsturgis.com
SUMMARY:Basketball & Late Night!
DESCRIPTION:6th Street Park (Behind Community Center) will be the place to be! 6:00-7:30pm at the park! 8:00-10pm at Hope Church! \nCan’t wait to hang out with all 6th-12th grade students!
URL:https://hopeinsturgis.com/event/basketball-late-night/
LOCATION:6th Street Park\, 6th St & Park Ave\, Sturgis\, SD\, 57785\, United States
END:VEVENT
BEGIN:VEVENT
DTSTART;TZID=America/Denver:20250727T100000
DTEND;TZID=America/Denver:20250727T120000
DTSTAMP:20260419T094524
CREATED:20250625T161540Z
LAST-MODIFIED:20250625T161540Z
UID:10000045-1753610400-1753617600@hopeinsturgis.com
SUMMARY:Sunday Worship
DESCRIPTION:Join us for our Sunday morning worship at 10am! \nNursery and Children’s ministry provided!
URL:https://hopeinsturgis.com/event/sunday-worship-22/
LOCATION:Hope Church\, 1638 Junction Ave\, Sturgis\, SD\, United States
GEO:44.408239;-103.509094
X-APPLE-STRUCTURED-LOCATION;VALUE=URI;X-ADDRESS=Hope Church 1638 Junction Ave Sturgis SD United States;X-APPLE-RADIUS=500;X-TITLE=1638 Junction Ave:geo:-103.509094,44.408239
END:VEVENT
BEGIN:VEVENT
DTSTART;TZID=America/Denver:20250803T100000
DTEND;TZID=America/Denver:20250803T120000
DTSTAMP:20260419T094524
CREATED:20250625T161652Z
LAST-MODIFIED:20250625T161652Z
UID:10000046-1754215200-1754222400@hopeinsturgis.com
SUMMARY:Sunday Worship
DESCRIPTION:Join us for our Sunday morning worship at 10am! \nNursery and Children’s ministry provided!
URL:https://hopeinsturgis.com/event/sunday-worship-23/
LOCATION:Hope Church\, 1638 Junction Ave\, Sturgis\, SD\, United States
GEO:44.408239;-103.509094
X-APPLE-STRUCTURED-LOCATION;VALUE=URI;X-ADDRESS=Hope Church 1638 Junction Ave Sturgis SD United States;X-APPLE-RADIUS=500;X-TITLE=1638 Junction Ave:geo:-103.509094,44.408239
END:VEVENT
BEGIN:VEVENT
DTSTART;TZID=America/Denver:20250817T180000
DTEND;TZID=America/Denver:20250817T193000
DTSTAMP:20260419T094524
CREATED:20250415T201856Z
LAST-MODIFIED:20250415T201856Z
UID:10000034-1755453600-1755459000@hopeinsturgis.com
SUMMARY:S'Mores & Stories!
DESCRIPTION:All INCOMING 6th-12th grade students are invited to hang out and eat S’Mores! Location TBD!
URL:https://hopeinsturgis.com/event/smores-stories/
END:VEVENT
BEGIN:VEVENT
DTSTART;TZID=America/Denver:20251015T183000
DTEND;TZID=America/Denver:20251015T193000
DTSTAMP:20260419T094524
CREATED:20251015T164207Z
LAST-MODIFIED:20251015T164207Z
UID:10000047-1760553000-1760556600@hopeinsturgis.com
SUMMARY:Hope Group - Wednesday Night Insights
DESCRIPTION:
URL:https://hopeinsturgis.com/event/hope-group-wednesday-night-insights/
LOCATION:20710 Rendezvous Ct\, Sturgis\, SD\, United States
GEO:44.369172;-103.361658
END:VEVENT
BEGIN:VEVENT
DTSTART;TZID=America/Denver:20251019T083000
DTEND;TZID=America/Denver:20251019T093000
DTSTAMP:20260419T094524
CREATED:20251015T164207Z
LAST-MODIFIED:20251018T172123Z
UID:10000048-1760862600-1760866200@hopeinsturgis.com
SUMMARY:Hope Group - Battlefield of the Mind
DESCRIPTION:
URL:https://hopeinsturgis.com/event/hope-group-battlefield-of-the-mind/
LOCATION:Hope Church\, 1638 Junction Ave\, Sturgis\, SD\, United States
GEO:44.408239;-103.509094
X-APPLE-STRUCTURED-LOCATION;VALUE=URI;X-ADDRESS=Hope Church 1638 Junction Ave Sturgis SD United States;X-APPLE-RADIUS=500;X-TITLE=1638 Junction Ave:geo:-103.509094,44.408239
END:VEVENT
BEGIN:VEVENT
DTSTART;TZID=America/Denver:20251019T173000
DTEND;TZID=America/Denver:20251019T190000
DTSTAMP:20260419T094524
CREATED:20251015T164208Z
LAST-MODIFIED:20251019T173314Z
UID:10000049-1760895000-1760900400@hopeinsturgis.com
SUMMARY:Youth Group
DESCRIPTION:
URL:https://hopeinsturgis.com/event/youth-group/
END:VEVENT
BEGIN:VEVENT
DTSTART;TZID=America/Denver:20251019T173000
DTEND;TZID=America/Denver:20251019T190000
DTSTAMP:20260419T094524
CREATED:20251015T164208Z
LAST-MODIFIED:20251019T173314Z
UID:10000050-1760895000-1760900400@hopeinsturgis.com
SUMMARY:Hope Group - Relationships and Communication
DESCRIPTION:
URL:https://hopeinsturgis.com/event/hope-group-relationships-and-communication/
LOCATION:Hope Church\, 1638 Junction Ave\, Sturgis\, SD\, United States
GEO:44.408239;-103.509094
X-APPLE-STRUCTURED-LOCATION;VALUE=URI;X-ADDRESS=Hope Church 1638 Junction Ave Sturgis SD United States;X-APPLE-RADIUS=500;X-TITLE=1638 Junction Ave:geo:-103.509094,44.408239
END:VEVENT
BEGIN:VEVENT
DTSTART;TZID=America/Denver:20251022T090000
DTEND;TZID=America/Denver:20251022T100000
DTSTAMP:20260419T094524
CREATED:20251015T164208Z
LAST-MODIFIED:20251021T183604Z
UID:10000051-1761123600-1761127200@hopeinsturgis.com
SUMMARY:Women's Prayer
DESCRIPTION:
URL:https://hopeinsturgis.com/event/womens-prayer/
LOCATION:Hope Church\, 1638 Junction Ave\, Sturgis\, SD\, United States
GEO:44.408239;-103.509094
X-APPLE-STRUCTURED-LOCATION;VALUE=URI;X-ADDRESS=Hope Church 1638 Junction Ave Sturgis SD United States;X-APPLE-RADIUS=500;X-TITLE=1638 Junction Ave:geo:-103.509094,44.408239
END:VEVENT
BEGIN:VEVENT
DTSTART;TZID=America/Denver:20251022T183000
DTEND;TZID=America/Denver:20251022T193000
DTSTAMP:20260419T094524
CREATED:20251015T164209Z
LAST-MODIFIED:20251022T183540Z
UID:10000052-1761157800-1761161400@hopeinsturgis.com
SUMMARY:Hope Group - Wednesday Night Insights
DESCRIPTION:
URL:https://hopeinsturgis.com/event/hope-group-wednesday-night-insights-2/
LOCATION:20710 Rendezvous Ct\, Sturgis\, SD\, United States
GEO:44.369172;-103.361658
END:VEVENT
BEGIN:VEVENT
DTSTART;TZID=America/Denver:20251026T090000
DTEND;TZID=America/Denver:20251026T100000
DTSTAMP:20260419T094524
CREATED:20251015T164209Z
LAST-MODIFIED:20251025T191737Z
UID:10000054-1761469200-1761472800@hopeinsturgis.com
SUMMARY:Hope Group - Connection and Fellowship
DESCRIPTION:
URL:https://hopeinsturgis.com/event/hope-group-connection-and-fellowship/
LOCATION:Hope Church\, 1638 Junction Ave\, Sturgis\, SD\, United States
GEO:44.408239;-103.509094
X-APPLE-STRUCTURED-LOCATION;VALUE=URI;X-ADDRESS=Hope Church 1638 Junction Ave Sturgis SD United States;X-APPLE-RADIUS=500;X-TITLE=1638 Junction Ave:geo:-103.509094,44.408239
END:VEVENT
BEGIN:VEVENT
DTSTART;TZID=America/Denver:20251026T100000
DTEND;TZID=America/Denver:20251026T110000
DTSTAMP:20260419T094524
CREATED:20251015T164209Z
LAST-MODIFIED:20251025T191737Z
UID:10000053-1761472800-1761476400@hopeinsturgis.com
SUMMARY:BGMC Sunday
DESCRIPTION:
URL:https://hopeinsturgis.com/event/bgmc-sunday/
END:VEVENT
BEGIN:VEVENT
DTSTART;TZID=America/Denver:20251026T173000
DTEND;TZID=America/Denver:20251026T190000
DTSTAMP:20260419T094524
CREATED:20251015T164210Z
LAST-MODIFIED:20251026T192531Z
UID:10000055-1761499800-1761505200@hopeinsturgis.com
SUMMARY:Hope Group - Relationships and Communication
DESCRIPTION:
URL:https://hopeinsturgis.com/event/hope-group-relationships-and-communication-2/
LOCATION:Hope Church\, 1638 Junction Ave\, Sturgis\, SD\, United States
GEO:44.408239;-103.509094
X-APPLE-STRUCTURED-LOCATION;VALUE=URI;X-ADDRESS=Hope Church 1638 Junction Ave Sturgis SD United States;X-APPLE-RADIUS=500;X-TITLE=1638 Junction Ave:geo:-103.509094,44.408239
END:VEVENT
END:VCALENDAR