BEGIN:VCALENDAR
VERSION:2.0
PRODID:-//Hope Church - ECPv6.15.20//NONSGML v1.0//EN
CALSCALE:GREGORIAN
METHOD:PUBLISH
X-WR-CALNAME:Hope Church
X-ORIGINAL-URL:https://hopeinsturgis.com
X-WR-CALDESC:Events for Hope Church
REFRESH-INTERVAL;VALUE=DURATION:PT1H
X-Robots-Tag:noindex
X-PUBLISHED-TTL:PT1H
BEGIN:VTIMEZONE
TZID:America/Denver
BEGIN:DAYLIGHT
TZOFFSETFROM:-0700
TZOFFSETTO:-0600
TZNAME:MDT
DTSTART:20240310T090000
END:DAYLIGHT
BEGIN:STANDARD
TZOFFSETFROM:-0600
TZOFFSETTO:-0700
TZNAME:MST
DTSTART:20241103T080000
END:STANDARD
BEGIN:DAYLIGHT
TZOFFSETFROM:-0700
TZOFFSETTO:-0600
TZNAME:MDT
DTSTART:20250309T090000
END:DAYLIGHT
BEGIN:STANDARD
TZOFFSETFROM:-0600
TZOFFSETTO:-0700
TZNAME:MST
DTSTART:20251102T080000
END:STANDARD
BEGIN:DAYLIGHT
TZOFFSETFROM:-0700
TZOFFSETTO:-0600
TZNAME:MDT
DTSTART:20260308T090000
END:DAYLIGHT
BEGIN:STANDARD
TZOFFSETFROM:-0600
TZOFFSETTO:-0700
TZNAME:MST
DTSTART:20261101T080000
END:STANDARD
BEGIN:DAYLIGHT
TZOFFSETFROM:-0700
TZOFFSETTO:-0600
TZNAME:MDT
DTSTART:20270314T090000
END:DAYLIGHT
BEGIN:STANDARD
TZOFFSETFROM:-0600
TZOFFSETTO:-0700
TZNAME:MST
DTSTART:20271107T080000
END:STANDARD
END:VTIMEZONE
BEGIN:VEVENT
DTSTART;TZID=America/Denver:20260104T100000
DTEND;TZID=America/Denver:20260104T110000
DTSTAMP:20260424T204043
CREATED:20251112T233549Z
LAST-MODIFIED:20260104T064012Z
UID:10000165-1767520800-1767524400@hopeinsturgis.com
SUMMARY:Communion
DESCRIPTION:
URL:https://hopeinsturgis.com/event/communion-5/
LOCATION:SD
END:VEVENT
BEGIN:VEVENT
DTSTART;TZID=America/Denver:20260104T100000
DTEND;TZID=America/Denver:20260104T110000
DTSTAMP:20260424T204043
CREATED:20251105T215405Z
LAST-MODIFIED:20260104T064012Z
UID:10000153-1767520800-1767524400@hopeinsturgis.com
SUMMARY:Sunday Service
DESCRIPTION:
URL:https://hopeinsturgis.com/event/sunday-service-9/
LOCATION:SD
END:VEVENT
BEGIN:VEVENT
DTSTART;TZID=America/Denver:20251228T100000
DTEND;TZID=America/Denver:20251228T110000
DTSTAMP:20260424T204043
CREATED:20251105T215405Z
LAST-MODIFIED:20251227T213300Z
UID:10000152-1766916000-1766919600@hopeinsturgis.com
SUMMARY:Sunday Service
DESCRIPTION:
URL:https://hopeinsturgis.com/event/sunday-service-8/
LOCATION:SD
END:VEVENT
BEGIN:VEVENT
DTSTART;TZID=America/Denver:20251228T100000
DTEND;TZID=America/Denver:20251228T110000
DTSTAMP:20260424T204043
CREATED:20251015T164224Z
LAST-MODIFIED:20251227T213301Z
UID:10000098-1766916000-1766919600@hopeinsturgis.com
SUMMARY:BGMC Sunday
DESCRIPTION:
URL:https://hopeinsturgis.com/event/bgmc-sunday-3/
LOCATION:SD
END:VEVENT
BEGIN:VEVENT
DTSTART;TZID=America/Denver:20251228T090000
DTEND;TZID=America/Denver:20251228T100000
DTSTAMP:20260424T204043
CREATED:20251015T164225Z
LAST-MODIFIED:20251227T213301Z
UID:10000099-1766912400-1766916000@hopeinsturgis.com
SUMMARY:Hope Group - Connection and Fellowship
DESCRIPTION:
URL:https://hopeinsturgis.com/event/hope-group-connection-and-fellowship-3/
LOCATION:Hope Church\, 1638 Junction Ave\, Sturgis\, SD\, United States
GEO:44.408239;-103.509094
X-APPLE-STRUCTURED-LOCATION;VALUE=URI;X-ADDRESS=Hope Church 1638 Junction Ave Sturgis SD United States;X-APPLE-RADIUS=500;X-TITLE=1638 Junction Ave:geo:-103.509094,44.408239
END:VEVENT
BEGIN:VEVENT
DTSTART;TZID=America/Denver:20251221T180000
DTEND;TZID=America/Denver:20251221T190000
DTSTAMP:20260424T204043
CREATED:20251110T231203Z
LAST-MODIFIED:20251221T190240Z
UID:10000160-1766340000-1766343600@hopeinsturgis.com
SUMMARY:Communion
DESCRIPTION:
URL:https://hopeinsturgis.com/event/communion-2/
LOCATION:SD
END:VEVENT
BEGIN:VEVENT
DTSTART;TZID=America/Denver:20251221T180000
DTEND;TZID=America/Denver:20251221T190000
DTSTAMP:20260424T204043
CREATED:20251106T221332Z
LAST-MODIFIED:20251221T190240Z
UID:10000158-1766340000-1766343600@hopeinsturgis.com
SUMMARY:Christmas Candlelight Service
DESCRIPTION:
URL:https://hopeinsturgis.com/event/christmas-candlelight-service/
LOCATION:SD
END:VEVENT
BEGIN:VEVENT
DTSTART;TZID=America/Denver:20251221T173000
DTEND;TZID=America/Denver:20251221T190000
DTSTAMP:20260424T204043
CREATED:20251015T164224Z
LAST-MODIFIED:20251105T215405Z
UID:10000097-1766338200-1766343600@hopeinsturgis.com
SUMMARY:Youth Group - Christmas Party
DESCRIPTION:
URL:https://hopeinsturgis.com/event/youth-group-christmas-party/
LOCATION:SD
END:VEVENT
BEGIN:VEVENT
DTSTART;TZID=America/Denver:20251221T100000
DTEND;TZID=America/Denver:20251221T110000
DTSTAMP:20260424T204043
CREATED:20251105T215404Z
LAST-MODIFIED:20251220T184837Z
UID:10000151-1766311200-1766314800@hopeinsturgis.com
SUMMARY:Sunday Service
DESCRIPTION:
URL:https://hopeinsturgis.com/event/sunday-service-7/
LOCATION:SD
END:VEVENT
BEGIN:VEVENT
DTSTART;TZID=America/Denver:20251221T090000
DTEND;TZID=America/Denver:20251221T100000
DTSTAMP:20260424T204043
CREATED:20251015T164224Z
LAST-MODIFIED:20251220T184837Z
UID:10000096-1766307600-1766311200@hopeinsturgis.com
SUMMARY:Hope Group - Being God's Image
DESCRIPTION:
URL:https://hopeinsturgis.com/event/hope-group-being-gods-image-4/
LOCATION:Hope Church\, 1638 Junction Ave\, Sturgis\, SD\, United States
GEO:44.408239;-103.509094
X-APPLE-STRUCTURED-LOCATION;VALUE=URI;X-ADDRESS=Hope Church 1638 Junction Ave Sturgis SD United States;X-APPLE-RADIUS=500;X-TITLE=1638 Junction Ave:geo:-103.509094,44.408239
END:VEVENT
BEGIN:VEVENT
DTSTART;TZID=America/Denver:20251217T183000
DTEND;TZID=America/Denver:20251217T193000
DTSTAMP:20260424T204043
CREATED:20251015T164223Z
LAST-MODIFIED:20251216T151721Z
UID:10000095-1765996200-1765999800@hopeinsturgis.com
SUMMARY:Hope Group - Wednesday Night Insights
DESCRIPTION:
URL:https://hopeinsturgis.com/event/hope-group-wednesday-night-insights-10/
LOCATION:20710 Rendezvous Ct\, Sturgis\, SD\, United States
GEO:44.369172;-103.361658
END:VEVENT
BEGIN:VEVENT
DTSTART;TZID=America/Denver:20251217T090000
DTEND;TZID=America/Denver:20251217T100000
DTSTAMP:20260424T204043
CREATED:20251015T164223Z
LAST-MODIFIED:20251216T151720Z
UID:10000094-1765962000-1765965600@hopeinsturgis.com
SUMMARY:Women's Prayer
DESCRIPTION:
URL:https://hopeinsturgis.com/event/womens-prayer-9/
LOCATION:Hope Church\, 1638 Junction Ave\, Sturgis\, SD\, United States
GEO:44.408239;-103.509094
X-APPLE-STRUCTURED-LOCATION;VALUE=URI;X-ADDRESS=Hope Church 1638 Junction Ave Sturgis SD United States;X-APPLE-RADIUS=500;X-TITLE=1638 Junction Ave:geo:-103.509094,44.408239
END:VEVENT
BEGIN:VEVENT
DTSTART;TZID=America/Denver:20251216T180000
DTEND;TZID=America/Denver:20251216T190000
DTSTAMP:20260424T204043
CREATED:20251015T164222Z
LAST-MODIFIED:20251216T151720Z
UID:10000093-1765908000-1765911600@hopeinsturgis.com
SUMMARY:Hope Group - Exploring Grief
DESCRIPTION:
URL:https://hopeinsturgis.com/event/hope-group-exploring-grief-4/
LOCATION:Hope Church\, 1638 Junction Ave\, Sturgis\, SD\, United States
GEO:44.408239;-103.509094
X-APPLE-STRUCTURED-LOCATION;VALUE=URI;X-ADDRESS=Hope Church 1638 Junction Ave Sturgis SD United States;X-APPLE-RADIUS=500;X-TITLE=1638 Junction Ave:geo:-103.509094,44.408239
END:VEVENT
BEGIN:VEVENT
DTSTART;TZID=America/Denver:20251214T173000
DTEND;TZID=America/Denver:20251214T190000
DTSTAMP:20260424T204043
CREATED:20251124T091534Z
LAST-MODIFIED:20251214T142855Z
UID:10000172-1765733400-1765738800@hopeinsturgis.com
SUMMARY:Youth Group Christmas Party
DESCRIPTION:
URL:https://hopeinsturgis.com/event/youth-group-christmas-party-2/
LOCATION:SD
END:VEVENT
BEGIN:VEVENT
DTSTART;TZID=America/Denver:20251214T100000
DTEND;TZID=America/Denver:20251214T110000
DTSTAMP:20260424T204043
CREATED:20251105T215403Z
LAST-MODIFIED:20251214T142855Z
UID:10000150-1765706400-1765710000@hopeinsturgis.com
SUMMARY:Sunday Service
DESCRIPTION:
URL:https://hopeinsturgis.com/event/sunday-service-6/
LOCATION:SD
END:VEVENT
BEGIN:VEVENT
DTSTART;TZID=America/Denver:20251214T083000
DTEND;TZID=America/Denver:20251214T093000
DTSTAMP:20260424T204043
CREATED:20251015T164222Z
LAST-MODIFIED:20251214T142855Z
UID:10000092-1765701000-1765704600@hopeinsturgis.com
SUMMARY:Hope Group - Battlefield of the Mind
DESCRIPTION:
URL:https://hopeinsturgis.com/event/hope-group-battlefield-of-the-mind-4/
LOCATION:Hope Church\, 1638 Junction Ave\, Sturgis\, SD\, United States
GEO:44.408239;-103.509094
X-APPLE-STRUCTURED-LOCATION;VALUE=URI;X-ADDRESS=Hope Church 1638 Junction Ave Sturgis SD United States;X-APPLE-RADIUS=500;X-TITLE=1638 Junction Ave:geo:-103.509094,44.408239
END:VEVENT
BEGIN:VEVENT
DTSTART;TZID=America/Denver:20251212T173000
DTEND;TZID=America/Denver:20251212T183000
DTSTAMP:20260424T204043
CREATED:20251118T065546Z
LAST-MODIFIED:20251212T140454Z
UID:10000168-1765560600-1765564200@hopeinsturgis.com
SUMMARY:Supper @ Enos
DESCRIPTION:
URL:https://hopeinsturgis.com/event/supper-enos/
LOCATION:SD
END:VEVENT
BEGIN:VEVENT
DTSTART;TZID=America/Denver:20251211T173000
DTEND;TZID=America/Denver:20251211T200000
DTSTAMP:20260424T204043
CREATED:20251015T164222Z
LAST-MODIFIED:20251211T140012Z
UID:10000091-1765474200-1765483200@hopeinsturgis.com
SUMMARY:Foster Care Christmas Celebration
DESCRIPTION:
URL:https://hopeinsturgis.com/event/foster-care-christmas-celebration/
LOCATION:SD
END:VEVENT
BEGIN:VEVENT
DTSTART;TZID=America/Denver:20251210T183000
DTEND;TZID=America/Denver:20251210T193000
DTSTAMP:20260424T204043
CREATED:20251015T164221Z
LAST-MODIFIED:20251210T133643Z
UID:10000090-1765391400-1765395000@hopeinsturgis.com
SUMMARY:Hope Group - Wednesday Night Insights
DESCRIPTION:
URL:https://hopeinsturgis.com/event/hope-group-wednesday-night-insights-9/
LOCATION:20710 Rendezvous Ct\, Sturgis\, SD\, United States
GEO:44.369172;-103.361658
END:VEVENT
BEGIN:VEVENT
DTSTART;TZID=America/Denver:20251210T090000
DTEND;TZID=America/Denver:20251210T100000
DTSTAMP:20260424T204043
CREATED:20251015T164221Z
LAST-MODIFIED:20251210T133643Z
UID:10000089-1765357200-1765360800@hopeinsturgis.com
SUMMARY:Women's Prayer
DESCRIPTION:
URL:https://hopeinsturgis.com/event/womens-prayer-8/
LOCATION:Hope Church\, 1638 Junction Ave\, Sturgis\, SD\, United States
GEO:44.408239;-103.509094
X-APPLE-STRUCTURED-LOCATION;VALUE=URI;X-ADDRESS=Hope Church 1638 Junction Ave Sturgis SD United States;X-APPLE-RADIUS=500;X-TITLE=1638 Junction Ave:geo:-103.509094,44.408239
END:VEVENT
BEGIN:VEVENT
DTSTART;TZID=America/Denver:20251207T173000
DTEND;TZID=America/Denver:20251207T190000
DTSTAMP:20260424T204043
CREATED:20251015T164221Z
LAST-MODIFIED:20251207T123600Z
UID:10000088-1765128600-1765134000@hopeinsturgis.com
SUMMARY:Youth Group
DESCRIPTION:
URL:https://hopeinsturgis.com/event/youth-group-4/
LOCATION:SD
END:VEVENT
BEGIN:VEVENT
DTSTART;TZID=America/Denver:20251207T173000
DTEND;TZID=America/Denver:20251207T190000
DTSTAMP:20260424T204043
CREATED:20251015T164220Z
LAST-MODIFIED:20251207T123600Z
UID:10000087-1765128600-1765134000@hopeinsturgis.com
SUMMARY:Hope Group - Relationships and Communication
DESCRIPTION:
URL:https://hopeinsturgis.com/event/hope-group-relationships-and-communication-4/
LOCATION:Hope Church\, 1638 Junction Ave\, Sturgis\, SD\, United States
GEO:44.408239;-103.509094
X-APPLE-STRUCTURED-LOCATION;VALUE=URI;X-ADDRESS=Hope Church 1638 Junction Ave Sturgis SD United States;X-APPLE-RADIUS=500;X-TITLE=1638 Junction Ave:geo:-103.509094,44.408239
END:VEVENT
BEGIN:VEVENT
DTSTART;TZID=America/Denver:20251207T100000
DTEND;TZID=America/Denver:20251207T110000
DTSTAMP:20260424T204043
CREATED:20251110T231202Z
LAST-MODIFIED:20251207T123600Z
UID:10000159-1765101600-1765105200@hopeinsturgis.com
SUMMARY:Communion
DESCRIPTION:
URL:https://hopeinsturgis.com/event/communion/
LOCATION:SD
END:VEVENT
BEGIN:VEVENT
DTSTART;TZID=America/Denver:20251207T100000
DTEND;TZID=America/Denver:20251207T110000
DTSTAMP:20260424T204043
CREATED:20251105T215402Z
LAST-MODIFIED:20251207T123600Z
UID:10000149-1765101600-1765105200@hopeinsturgis.com
SUMMARY:Sunday Service
DESCRIPTION:
URL:https://hopeinsturgis.com/event/sunday-service-5/
LOCATION:SD
END:VEVENT
BEGIN:VEVENT
DTSTART;TZID=America/Denver:20251207T090000
DTEND;TZID=America/Denver:20251207T100000
DTSTAMP:20260424T204043
CREATED:20251015T164220Z
LAST-MODIFIED:20251207T123600Z
UID:10000086-1765098000-1765101600@hopeinsturgis.com
SUMMARY:Hope Group - Being God's Image
DESCRIPTION:
URL:https://hopeinsturgis.com/event/hope-group-being-gods-image-3/
LOCATION:Hope Church\, 1638 Junction Ave\, Sturgis\, SD\, United States
GEO:44.408239;-103.509094
X-APPLE-STRUCTURED-LOCATION;VALUE=URI;X-ADDRESS=Hope Church 1638 Junction Ave Sturgis SD United States;X-APPLE-RADIUS=500;X-TITLE=1638 Junction Ave:geo:-103.509094,44.408239
END:VEVENT
BEGIN:VEVENT
DTSTART;TZID=America/Denver:20251203T183000
DTEND;TZID=America/Denver:20251203T193000
DTSTAMP:20260424T204043
CREATED:20251015T164220Z
LAST-MODIFIED:20251203T110517Z
UID:10000085-1764786600-1764790200@hopeinsturgis.com
SUMMARY:Hope Group - Wednesday Night Insights
DESCRIPTION:
URL:https://hopeinsturgis.com/event/hope-group-wednesday-night-insights-8/
LOCATION:20710 Rendezvous Ct\, Sturgis\, SD\, United States
GEO:44.369172;-103.361658
END:VEVENT
BEGIN:VEVENT
DTSTART;TZID=America/Denver:20251203T180000
DTEND;TZID=America/Denver:20251203T190000
DTSTAMP:20260424T204043
CREATED:20251015T164219Z
LAST-MODIFIED:20251203T110517Z
UID:10000084-1764784800-1764788400@hopeinsturgis.com
SUMMARY:First Wednesday
DESCRIPTION:
URL:https://hopeinsturgis.com/event/first-wednesday-3/
LOCATION:SD
END:VEVENT
BEGIN:VEVENT
DTSTART;TZID=America/Denver:20251203T090000
DTEND;TZID=America/Denver:20251203T100000
DTSTAMP:20260424T204043
CREATED:20251015T164219Z
LAST-MODIFIED:20251203T110517Z
UID:10000083-1764752400-1764756000@hopeinsturgis.com
SUMMARY:Women's Prayer
DESCRIPTION:
URL:https://hopeinsturgis.com/event/womens-prayer-7/
LOCATION:Hope Church\, 1638 Junction Ave\, Sturgis\, SD\, United States
GEO:44.408239;-103.509094
X-APPLE-STRUCTURED-LOCATION;VALUE=URI;X-ADDRESS=Hope Church 1638 Junction Ave Sturgis SD United States;X-APPLE-RADIUS=500;X-TITLE=1638 Junction Ave:geo:-103.509094,44.408239
END:VEVENT
BEGIN:VEVENT
DTSTART;TZID=America/Denver:20251202T180000
DTEND;TZID=America/Denver:20251202T190000
DTSTAMP:20260424T204043
CREATED:20251015T164218Z
LAST-MODIFIED:20251202T110127Z
UID:10000082-1764698400-1764702000@hopeinsturgis.com
SUMMARY:Hope Group - Exploring Grief
DESCRIPTION:
URL:https://hopeinsturgis.com/event/hope-group-exploring-grief-3/
LOCATION:Hope Church\, 1638 Junction Ave\, Sturgis\, SD\, United States
GEO:44.408239;-103.509094
X-APPLE-STRUCTURED-LOCATION;VALUE=URI;X-ADDRESS=Hope Church 1638 Junction Ave Sturgis SD United States;X-APPLE-RADIUS=500;X-TITLE=1638 Junction Ave:geo:-103.509094,44.408239
END:VEVENT
BEGIN:VEVENT
DTSTART;TZID=America/Denver:20251130T100000
DTEND;TZID=America/Denver:20251130T110000
DTSTAMP:20260424T204043
CREATED:20251105T215400Z
LAST-MODIFIED:20251130T104511Z
UID:10000148-1764496800-1764500400@hopeinsturgis.com
SUMMARY:Sunday Service
DESCRIPTION:
URL:https://hopeinsturgis.com/event/sunday-service-4/
LOCATION:SD
END:VEVENT
END:VCALENDAR