BEGIN:VCALENDAR
VERSION:2.0
PRODID:-//Hope Church - ECPv6.15.20//NONSGML v1.0//EN
CALSCALE:GREGORIAN
METHOD:PUBLISH
X-ORIGINAL-URL:https://hopeinsturgis.com
X-WR-CALDESC:Events for Hope Church
REFRESH-INTERVAL;VALUE=DURATION:PT1H
X-Robots-Tag:noindex
X-PUBLISHED-TTL:PT1H
BEGIN:VTIMEZONE
TZID:America/Denver
BEGIN:DAYLIGHT
TZOFFSETFROM:-0700
TZOFFSETTO:-0600
TZNAME:MDT
DTSTART:20250309T090000
END:DAYLIGHT
BEGIN:STANDARD
TZOFFSETFROM:-0600
TZOFFSETTO:-0700
TZNAME:MST
DTSTART:20251102T080000
END:STANDARD
BEGIN:DAYLIGHT
TZOFFSETFROM:-0700
TZOFFSETTO:-0600
TZNAME:MDT
DTSTART:20260308T090000
END:DAYLIGHT
BEGIN:STANDARD
TZOFFSETFROM:-0600
TZOFFSETTO:-0700
TZNAME:MST
DTSTART:20261101T080000
END:STANDARD
BEGIN:DAYLIGHT
TZOFFSETFROM:-0700
TZOFFSETTO:-0600
TZNAME:MDT
DTSTART:20270314T090000
END:DAYLIGHT
BEGIN:STANDARD
TZOFFSETFROM:-0600
TZOFFSETTO:-0700
TZNAME:MST
DTSTART:20271107T080000
END:STANDARD
BEGIN:DAYLIGHT
TZOFFSETFROM:-0700
TZOFFSETTO:-0600
TZNAME:MDT
DTSTART:20280312T090000
END:DAYLIGHT
BEGIN:STANDARD
TZOFFSETFROM:-0600
TZOFFSETTO:-0700
TZNAME:MST
DTSTART:20281105T080000
END:STANDARD
END:VTIMEZONE
BEGIN:VEVENT
DTSTART;TZID=America/Denver:20260614T100000
DTEND;TZID=America/Denver:20260614T110000
DTSTAMP:20260424T205102
CREATED:20260321T085106Z
LAST-MODIFIED:20260424T174840Z
UID:10000242-1781431200-1781434800@hopeinsturgis.com
SUMMARY:Sunday Service
DESCRIPTION:
URL:https://hopeinsturgis.com/event/sunday-service-32/
LOCATION:SD
END:VEVENT
BEGIN:VEVENT
DTSTART;TZID=America/Denver:20260617T090000
DTEND;TZID=America/Denver:20260617T100000
DTSTAMP:20260424T205102
CREATED:20260321T085106Z
LAST-MODIFIED:20260424T174840Z
UID:10000243-1781686800-1781690400@hopeinsturgis.com
SUMMARY:Hope Group - Women’s Prayer
DESCRIPTION:
URL:https://hopeinsturgis.com/event/hope-group-womens-prayer-15/
LOCATION:Hope Church 1638 Junction Ave\, Sturgis\, SD\, United States
GEO:44.369172;-103.361658
END:VEVENT
BEGIN:VEVENT
DTSTART;TZID=America/Denver:20260617T183000
DTEND;TZID=America/Denver:20260617T200000
DTSTAMP:20260424T205102
CREATED:20260321T085106Z
LAST-MODIFIED:20260424T174840Z
UID:10000244-1781721000-1781726400@hopeinsturgis.com
SUMMARY:Hope Group - Wednesday Night Insights
DESCRIPTION:
URL:https://hopeinsturgis.com/event/hope-group-wednesday-night-insights-24/
LOCATION:20710 Rendezvous Ct\, Sturgis\, SD\, United States
GEO:44.369172;-103.361658
END:VEVENT
BEGIN:VEVENT
DTSTART;TZID=America/Denver:20260621T100000
DTEND;TZID=America/Denver:20260621T110000
DTSTAMP:20260424T205102
CREATED:20260324T093526Z
LAST-MODIFIED:20260424T174840Z
UID:10000245-1782036000-1782039600@hopeinsturgis.com
SUMMARY:Sunday Service
DESCRIPTION:
URL:https://hopeinsturgis.com/event/sunday-service-33/
LOCATION:SD
END:VEVENT
BEGIN:VEVENT
DTSTART;TZID=America/Denver:20260628T100000
DTEND;TZID=America/Denver:20260628T110000
DTSTAMP:20260424T205102
CREATED:20251015T164230Z
LAST-MODIFIED:20260424T174840Z
UID:10000113-1782640800-1782644400@hopeinsturgis.com
SUMMARY:BGMC Sunday
DESCRIPTION:
URL:https://hopeinsturgis.com/event/bgmc-sunday-9/
LOCATION:SD
END:VEVENT
BEGIN:VEVENT
DTSTART;TZID=America/Denver:20260628T100000
DTEND;TZID=America/Denver:20260628T110000
DTSTAMP:20260424T205102
CREATED:20260330T000215Z
LAST-MODIFIED:20260424T174840Z
UID:10000247-1782640800-1782644400@hopeinsturgis.com
SUMMARY:Sunday Service
DESCRIPTION:
URL:https://hopeinsturgis.com/event/sunday-service-34/
LOCATION:SD
END:VEVENT
BEGIN:VEVENT
DTSTART;TZID=America/Denver:20260701T180000
DTEND;TZID=America/Denver:20260701T190000
DTSTAMP:20260424T205102
CREATED:20251015T164231Z
LAST-MODIFIED:20260424T174840Z
UID:10000114-1782928800-1782932400@hopeinsturgis.com
SUMMARY:First Wednesday
DESCRIPTION:
URL:https://hopeinsturgis.com/event/first-wednesday-10/
LOCATION:SD
END:VEVENT
BEGIN:VEVENT
DTSTART;TZID=America/Denver:20260705T100000
DTEND;TZID=America/Denver:20260705T110000
DTSTAMP:20260424T205102
CREATED:20260406T000338Z
LAST-MODIFIED:20260424T174840Z
UID:10000250-1783245600-1783249200@hopeinsturgis.com
SUMMARY:Sunday Service
DESCRIPTION:
URL:https://hopeinsturgis.com/event/sunday-service-35/
LOCATION:SD
END:VEVENT
BEGIN:VEVENT
DTSTART;TZID=America/Denver:20260705T100000
DTEND;TZID=America/Denver:20260705T110000
DTSTAMP:20260424T205102
CREATED:20260406T000338Z
LAST-MODIFIED:20260424T174840Z
UID:10000249-1783245600-1783249200@hopeinsturgis.com
SUMMARY:Communion
DESCRIPTION:
URL:https://hopeinsturgis.com/event/communion-11/
LOCATION:SD
END:VEVENT
BEGIN:VEVENT
DTSTART;TZID=America/Denver:20260712T100000
DTEND;TZID=America/Denver:20260712T110000
DTSTAMP:20260424T205102
CREATED:20260413T000417Z
LAST-MODIFIED:20260424T174840Z
UID:10000251-1783850400-1783854000@hopeinsturgis.com
SUMMARY:Sunday Service
DESCRIPTION:
URL:https://hopeinsturgis.com/event/sunday-service-36/
LOCATION:SD
END:VEVENT
BEGIN:VEVENT
DTSTART;TZID=America/Denver:20260719T100000
DTEND;TZID=America/Denver:20260719T110000
DTSTAMP:20260424T205102
CREATED:20260424T174841Z
LAST-MODIFIED:20260424T174841Z
UID:10000252-1784455200-1784458800@hopeinsturgis.com
SUMMARY:Sunday Service
DESCRIPTION:
URL:https://hopeinsturgis.com/event/sunday-service-37/
LOCATION:SD
END:VEVENT
BEGIN:VEVENT
DTSTART;TZID=America/Denver:20260726T100000
DTEND;TZID=America/Denver:20260726T110000
DTSTAMP:20260424T205102
CREATED:20251015T164231Z
LAST-MODIFIED:20251015T164231Z
UID:10000115-1785060000-1785063600@hopeinsturgis.com
SUMMARY:BGMC Sunday
DESCRIPTION:
URL:https://hopeinsturgis.com/event/bgmc-sunday-10/
LOCATION:SD
END:VEVENT
BEGIN:VEVENT
DTSTART;TZID=America/Denver:20260805T180000
DTEND;TZID=America/Denver:20260805T190000
DTSTAMP:20260424T205102
CREATED:20251015T164231Z
LAST-MODIFIED:20251015T164231Z
UID:10000116-1785952800-1785956400@hopeinsturgis.com
SUMMARY:First Wednesday
DESCRIPTION:
URL:https://hopeinsturgis.com/event/first-wednesday-11/
LOCATION:SD
END:VEVENT
BEGIN:VEVENT
DTSTART;TZID=America/Denver:20260830T100000
DTEND;TZID=America/Denver:20260830T110000
DTSTAMP:20260424T205102
CREATED:20251015T164232Z
LAST-MODIFIED:20251015T164232Z
UID:10000117-1788084000-1788087600@hopeinsturgis.com
SUMMARY:BGMC Sunday
DESCRIPTION:
URL:https://hopeinsturgis.com/event/bgmc-sunday-11/
LOCATION:SD
END:VEVENT
BEGIN:VEVENT
DTSTART;TZID=America/Denver:20260902T180000
DTEND;TZID=America/Denver:20260902T190000
DTSTAMP:20260424T205102
CREATED:20251015T164232Z
LAST-MODIFIED:20251015T164232Z
UID:10000118-1788372000-1788375600@hopeinsturgis.com
SUMMARY:First Wednesday
DESCRIPTION:
URL:https://hopeinsturgis.com/event/first-wednesday-12/
LOCATION:SD
END:VEVENT
BEGIN:VEVENT
DTSTART;TZID=America/Denver:20260927T100000
DTEND;TZID=America/Denver:20260927T110000
DTSTAMP:20260424T205102
CREATED:20251015T164233Z
LAST-MODIFIED:20251015T164233Z
UID:10000119-1790503200-1790506800@hopeinsturgis.com
SUMMARY:BGMC Sunday
DESCRIPTION:
URL:https://hopeinsturgis.com/event/bgmc-sunday-12/
LOCATION:SD
END:VEVENT
BEGIN:VEVENT
DTSTART;TZID=America/Denver:20261007T180000
DTEND;TZID=America/Denver:20261007T190000
DTSTAMP:20260424T205102
CREATED:20251015T164233Z
LAST-MODIFIED:20251015T164233Z
UID:10000120-1791396000-1791399600@hopeinsturgis.com
SUMMARY:First Wednesday
DESCRIPTION:
URL:https://hopeinsturgis.com/event/first-wednesday-13/
LOCATION:SD
END:VEVENT
BEGIN:VEVENT
DTSTART;TZID=America/Denver:20261025T100000
DTEND;TZID=America/Denver:20261025T110000
DTSTAMP:20260424T205102
CREATED:20251015T164233Z
LAST-MODIFIED:20251015T164233Z
UID:10000121-1792922400-1792926000@hopeinsturgis.com
SUMMARY:BGMC Sunday
DESCRIPTION:
URL:https://hopeinsturgis.com/event/bgmc-sunday-13/
LOCATION:SD
END:VEVENT
BEGIN:VEVENT
DTSTART;TZID=America/Denver:20261104T180000
DTEND;TZID=America/Denver:20261104T190000
DTSTAMP:20260424T205102
CREATED:20251015T164234Z
LAST-MODIFIED:20251015T164234Z
UID:10000122-1793815200-1793818800@hopeinsturgis.com
SUMMARY:First Wednesday
DESCRIPTION:
URL:https://hopeinsturgis.com/event/first-wednesday-14/
LOCATION:SD
END:VEVENT
BEGIN:VEVENT
DTSTART;TZID=America/Denver:20261129T100000
DTEND;TZID=America/Denver:20261129T110000
DTSTAMP:20260424T205102
CREATED:20251015T164234Z
LAST-MODIFIED:20251015T164234Z
UID:10000123-1795946400-1795950000@hopeinsturgis.com
SUMMARY:BGMC Sunday
DESCRIPTION:
URL:https://hopeinsturgis.com/event/bgmc-sunday-14/
LOCATION:SD
END:VEVENT
BEGIN:VEVENT
DTSTART;TZID=America/Denver:20261202T180000
DTEND;TZID=America/Denver:20261202T190000
DTSTAMP:20260424T205102
CREATED:20251015T164234Z
LAST-MODIFIED:20251015T164234Z
UID:10000124-1796234400-1796238000@hopeinsturgis.com
SUMMARY:First Wednesday
DESCRIPTION:
URL:https://hopeinsturgis.com/event/first-wednesday-15/
LOCATION:SD
END:VEVENT
BEGIN:VEVENT
DTSTART;TZID=America/Denver:20261227T100000
DTEND;TZID=America/Denver:20261227T110000
DTSTAMP:20260424T205102
CREATED:20251015T164235Z
LAST-MODIFIED:20251015T164235Z
UID:10000125-1798365600-1798369200@hopeinsturgis.com
SUMMARY:BGMC Sunday
DESCRIPTION:
URL:https://hopeinsturgis.com/event/bgmc-sunday-15/
LOCATION:SD
END:VEVENT
BEGIN:VEVENT
DTSTART;TZID=America/Denver:20270106T180000
DTEND;TZID=America/Denver:20270106T190000
DTSTAMP:20260424T205102
CREATED:20251015T164235Z
LAST-MODIFIED:20251015T164235Z
UID:10000126-1799258400-1799262000@hopeinsturgis.com
SUMMARY:First Wednesday
DESCRIPTION:
URL:https://hopeinsturgis.com/event/first-wednesday-16/
LOCATION:SD
END:VEVENT
BEGIN:VEVENT
DTSTART;TZID=America/Denver:20270131T100000
DTEND;TZID=America/Denver:20270131T110000
DTSTAMP:20260424T205102
CREATED:20251015T164235Z
LAST-MODIFIED:20251015T164235Z
UID:10000127-1801389600-1801393200@hopeinsturgis.com
SUMMARY:BGMC Sunday
DESCRIPTION:
URL:https://hopeinsturgis.com/event/bgmc-sunday-16/
LOCATION:SD
END:VEVENT
BEGIN:VEVENT
DTSTART;TZID=America/Denver:20270203T180000
DTEND;TZID=America/Denver:20270203T190000
DTSTAMP:20260424T205102
CREATED:20251015T164236Z
LAST-MODIFIED:20251015T164236Z
UID:10000128-1801677600-1801681200@hopeinsturgis.com
SUMMARY:First Wednesday
DESCRIPTION:
URL:https://hopeinsturgis.com/event/first-wednesday-17/
LOCATION:SD
END:VEVENT
BEGIN:VEVENT
DTSTART;TZID=America/Denver:20270228T100000
DTEND;TZID=America/Denver:20270228T110000
DTSTAMP:20260424T205102
CREATED:20251015T164236Z
LAST-MODIFIED:20251015T164236Z
UID:10000129-1803808800-1803812400@hopeinsturgis.com
SUMMARY:BGMC Sunday
DESCRIPTION:
URL:https://hopeinsturgis.com/event/bgmc-sunday-17/
LOCATION:SD
END:VEVENT
BEGIN:VEVENT
DTSTART;TZID=America/Denver:20270303T180000
DTEND;TZID=America/Denver:20270303T190000
DTSTAMP:20260424T205102
CREATED:20251015T164236Z
LAST-MODIFIED:20251015T164236Z
UID:10000130-1804096800-1804100400@hopeinsturgis.com
SUMMARY:First Wednesday
DESCRIPTION:
URL:https://hopeinsturgis.com/event/first-wednesday-18/
LOCATION:SD
END:VEVENT
BEGIN:VEVENT
DTSTART;TZID=America/Denver:20270328T100000
DTEND;TZID=America/Denver:20270328T110000
DTSTAMP:20260424T205102
CREATED:20251015T164237Z
LAST-MODIFIED:20251015T164237Z
UID:10000131-1806228000-1806231600@hopeinsturgis.com
SUMMARY:BGMC Sunday
DESCRIPTION:
URL:https://hopeinsturgis.com/event/bgmc-sunday-18/
LOCATION:SD
END:VEVENT
BEGIN:VEVENT
DTSTART;TZID=America/Denver:20270407T180000
DTEND;TZID=America/Denver:20270407T190000
DTSTAMP:20260424T205102
CREATED:20251015T164237Z
LAST-MODIFIED:20251015T164237Z
UID:10000132-1807120800-1807124400@hopeinsturgis.com
SUMMARY:First Wednesday
DESCRIPTION:
URL:https://hopeinsturgis.com/event/first-wednesday-19/
LOCATION:SD
END:VEVENT
BEGIN:VEVENT
DTSTART;TZID=America/Denver:20270425T100000
DTEND;TZID=America/Denver:20270425T110000
DTSTAMP:20260424T205102
CREATED:20251015T164237Z
LAST-MODIFIED:20251015T164237Z
UID:10000133-1808647200-1808650800@hopeinsturgis.com
SUMMARY:BGMC Sunday
DESCRIPTION:
URL:https://hopeinsturgis.com/event/bgmc-sunday-19/
LOCATION:SD
END:VEVENT
END:VCALENDAR